BEGIN:VCALENDAR
VERSION:2.0
PRODID:spatie/icalendar-generator
DESCRIPTION:Evenementen van Ludo Volleybal
X-WR-CALDESC:Evenementen van Ludo Volleybal
REFRESH-INTERVAL;VALUE=DURATION:PT1440M
X-PUBLISHED-TTL:PT1440M
BEGIN:VTIMEZONE
TZID:Etc/GMT+0
BEGIN:STANDARD
DTSTART:20240904T100000Z
TZOFFSETFROM:+0000
TZOFFSETTO:+0000
END:STANDARD
END:VTIMEZONE
BEGIN:VTIMEZONE
TZID:UTC
BEGIN:STANDARD
DTSTART:20250725T051659Z
TZOFFSETFROM:+0000
TZOFFSETTO:+0000
END:STANDARD
END:VTIMEZONE
BEGIN:VEVENT
UID:92-77
DTSTAMP:20260421T051659Z
SUMMARY:Pré Jeugd Beachtraining
LOCATION:Beachvolleybal Amersfoort Schothorster- Laan 5  Amersfoort Utrecht
  3822 NA
ORGANIZER;CN=Mats Bleeker:MAILTO:Matsbleeker98@gmail.com
RRULE:FREQ=WEEKLY;UNTIL=20250602T000000Z
DTSTART;TZID=Etc/GMT+0:20250601T100000
DTEND;TZID=Etc/GMT+0:20250601T130000
X-ALT-DESC;FMTTYPE=TEXT/HTML:
CATEGORIES:Jongens Pré Jeugd
URL;VALUE=URI:https://ludovolleybal.nl/mc-events/pre-jeugd-beachtraining/?m
 c_id=92
METHOD:PUBLISH
END:VEVENT
END:VCALENDAR