BEGIN:VCALENDAR
VERSION:2.0
PRODID:spatie/icalendar-generator
DESCRIPTION:Evenementen van Ludo Volleybal
X-WR-CALDESC:Evenementen van Ludo Volleybal
REFRESH-INTERVAL;VALUE=DURATION:PT1440M
X-PUBLISHED-TTL:PT1440M
BEGIN:VTIMEZONE
TZID:Etc/GMT+0
BEGIN:STANDARD
DTSTART:20240715T093000Z
TZOFFSETFROM:+0000
TZOFFSETTO:+0000
END:STANDARD
END:VTIMEZONE
BEGIN:VTIMEZONE
TZID:UTC
BEGIN:STANDARD
DTSTART:20250725T082841Z
TZOFFSETFROM:+0000
TZOFFSETTO:+0000
END:STANDARD
END:VTIMEZONE
BEGIN:VEVENT
UID:91-81
DTSTAMP:20260421T082841Z
SUMMARY:Pré Jeugd naar Zuiderpark
LOCATION:
ORGANIZER;CN=Mats Bleeker:MAILTO:Matsbleeker98@gmail.com
DTSTART;TZID=Etc/GMT+0:20250411T093000
DTEND;TZID=Etc/GMT+0:20250411T133000
X-ALT-DESC;FMTTYPE=TEXT/HTML:
CATEGORIES:Jongens Pré Jeugd
URL;VALUE=URI:https://ludovolleybal.nl/mc-events/pre-jeugd-naar-zuiderpark/
METHOD:PUBLISH
END:VEVENT
END:VCALENDAR