BEGIN:VCALENDAR
VERSION:2.0
PRODID:spatie/icalendar-generator
DESCRIPTION:Evenementen van Ludo Volleybal
X-WR-CALDESC:Evenementen van Ludo Volleybal
REFRESH-INTERVAL;VALUE=DURATION:PT1440M
X-PUBLISHED-TTL:PT1440M
BEGIN:VTIMEZONE
TZID:Etc/GMT+0
BEGIN:STANDARD
DTSTART:20250910T090000Z
TZOFFSETFROM:+0000
TZOFFSETTO:+0000
END:STANDARD
END:VTIMEZONE
BEGIN:VTIMEZONE
TZID:UTC
BEGIN:STANDARD
DTSTART:20250724T145350Z
TZOFFSETFROM:+0000
TZOFFSETTO:+0000
END:STANDARD
END:VTIMEZONE
BEGIN:VEVENT
UID:304-279
DTSTAMP:20260420T145350Z
SUMMARY:JC Training
LOCATION:Klaas Bouthal Laren Schapendrift 64  Laren Noord-Holland 1251 XH
ORGANIZER;CN=Mats Bleeker:MAILTO:Matsbleeker98@gmail.com
DTSTART;TZID=Etc/GMT+0:20260607T090000
DTEND;TZID=Etc/GMT+0:20260607T120000
X-ALT-DESC;FMTTYPE=TEXT/HTML:
CATEGORIES:Jongens C
URL;VALUE=URI:https://ludovolleybal.nl/mc-events/jc-training-40/
METHOD:PUBLISH
END:VEVENT
END:VCALENDAR