BEGIN:VCALENDAR
VERSION:2.0
PRODID:spatie/icalendar-generator
DESCRIPTION:Evenementen van Ludo Volleybal
X-WR-CALDESC:Evenementen van Ludo Volleybal
REFRESH-INTERVAL;VALUE=DURATION:PT1440M
X-PUBLISHED-TTL:PT1440M
BEGIN:VTIMEZONE
TZID:Etc/GMT+0
BEGIN:STANDARD
DTSTART:20250730T090000Z
TZOFFSETFROM:+0000
TZOFFSETTO:+0000
END:STANDARD
END:VTIMEZONE
BEGIN:VTIMEZONE
TZID:UTC
BEGIN:STANDARD
DTSTART:20250724T115154Z
TZOFFSETFROM:+0000
TZOFFSETTO:+0000
END:STANDARD
END:VTIMEZONE
BEGIN:VEVENT
UID:297-272
DTSTAMP:20260420T115154Z
SUMMARY:Pré Jeugd Beachtraining
LOCATION:Zomerkade Huizen Zomerkade 272  Huizen Noord-Holland 1273 SV
ORGANIZER;CN=Mats Bleeker:MAILTO:Matsbleeker98@gmail.com
DTSTART;TZID=Etc/GMT+0:20260426T090000
DTEND;TZID=Etc/GMT+0:20260426T120000
X-ALT-DESC;FMTTYPE=TEXT/HTML:
CATEGORIES:Jongens Pré Jeugd
URL;VALUE=URI:https://ludovolleybal.nl/mc-events/pre-jeugd-beachtraining-2/
METHOD:PUBLISH
END:VEVENT
END:VCALENDAR