BEGIN:VCALENDAR
VERSION:2.0
PRODID:spatie/icalendar-generator
DESCRIPTION:Evenementen van Ludo Volleybal
X-WR-CALDESC:Evenementen van Ludo Volleybal
REFRESH-INTERVAL;VALUE=DURATION:PT1440M
X-PUBLISHED-TTL:PT1440M
BEGIN:VTIMEZONE
TZID:Etc/GMT+0
BEGIN:STANDARD
DTSTART:20250716T100000Z
TZOFFSETFROM:+0000
TZOFFSETTO:+0000
END:STANDARD
END:VTIMEZONE
BEGIN:VTIMEZONE
TZID:UTC
BEGIN:STANDARD
DTSTART:20250724T120107Z
TZOFFSETFROM:+0000
TZOFFSETTO:+0000
END:STANDARD
END:VTIMEZONE
BEGIN:VEVENT
UID:280-259
DTSTAMP:20260420T120107Z
SUMMARY:Ludo Volley Stars
LOCATION:Prima Donna Kaas Arena Korenwolf 35  Huizen Noord-Holland 1273 JP
ORGANIZER;CN=Mats Bleeker:MAILTO:Matsbleeker98@gmail.com
DTSTART;TZID=Etc/GMT+0:20260412T100000
DTEND;TZID=Etc/GMT+0:20260412T120000
X-ALT-DESC;FMTTYPE=TEXT/HTML:
CATEGORIES:Volley Stars
URL;VALUE=URI:https://ludovolleybal.nl/mc-events/ludo-volley-stars-5/
METHOD:PUBLISH
END:VEVENT
END:VCALENDAR