BEGIN:VCALENDAR
VERSION:2.0
PRODID:spatie/icalendar-generator
DESCRIPTION:Evenementen van Ludo Volleybal
X-WR-CALDESC:Evenementen van Ludo Volleybal
REFRESH-INTERVAL;VALUE=DURATION:PT1440M
X-PUBLISHED-TTL:PT1440M
BEGIN:VTIMEZONE
TZID:Etc/GMT+0
BEGIN:STANDARD
DTSTART:20250618T100000Z
TZOFFSETFROM:+0000
TZOFFSETTO:+0000
END:STANDARD
END:VTIMEZONE
BEGIN:VTIMEZONE
TZID:UTC
BEGIN:STANDARD
DTSTART:20250724T192313Z
TZOFFSETFROM:+0000
TZOFFSETTO:+0000
END:STANDARD
END:VTIMEZONE
BEGIN:VEVENT
UID:277-256
DTSTAMP:20260420T192313Z
SUMMARY:Ludo Volley Stars
LOCATION:Sportcentrum de Meent Graaf Wichman 177  Huizen Noord-Holland 1276
  KD
ORGANIZER;CN=Mats Bleeker:MAILTO:Matsbleeker98@gmail.com
DTSTART;TZID=Etc/GMT+0:20260315T100000
DTEND;TZID=Etc/GMT+0:20260315T120000
X-ALT-DESC;FMTTYPE=TEXT/HTML:
CATEGORIES:Volley Stars
URL;VALUE=URI:https://ludovolleybal.nl/mc-events/ludo-volley-stars-2/
METHOD:PUBLISH
END:VEVENT
END:VCALENDAR