BEGIN:VCALENDAR
VERSION:2.0
PRODID:spatie/icalendar-generator
DESCRIPTION:Evenementen van Ludo Volleybal
X-WR-CALDESC:Evenementen van Ludo Volleybal
REFRESH-INTERVAL;VALUE=DURATION:PT1440M
X-PUBLISHED-TTL:PT1440M
BEGIN:VTIMEZONE
TZID:Etc/GMT+0
BEGIN:STANDARD
DTSTART:20250327T000000Z
TZOFFSETFROM:+0000
TZOFFSETTO:+0000
END:STANDARD
END:VTIMEZONE
BEGIN:VTIMEZONE
TZID:UTC
BEGIN:STANDARD
DTSTART:20250724T150056Z
TZOFFSETFROM:+0000
TZOFFSETTO:+0000
END:STANDARD
END:VTIMEZONE
BEGIN:VEVENT
UID:268-248
DTSTAMP:20260420T150056Z
SUMMARY:Ludo LKTBF Volleybal Marathon
LOCATION:Prima Donna Kaas Arena Korenwolf 35  Huizen Noord-Holland 1273 JP
ORGANIZER;CN=Mats Bleeker:MAILTO:Matsbleeker98@gmail.com
DTSTART;TZID=Etc/GMT+0;VALUE=DATE:20251222
DTEND;TZID=Etc/GMT+0;VALUE=DATE:20251224
X-ALT-DESC;FMTTYPE=TEXT/HTML:
CATEGORIES:Jongens AB,  Jongens C,  Meiden AB,  Meiden C
URL;VALUE=URI:https://ludovolleybal.nl/mc-events/ludo-lktbf-volleybal-marat
 hon/
METHOD:PUBLISH
END:VEVENT
END:VCALENDAR