BEGIN:VCALENDAR
VERSION:2.0
PRODID:spatie/icalendar-generator
DESCRIPTION:Evenementen van Ludo Volleybal
X-WR-CALDESC:Evenementen van Ludo Volleybal
REFRESH-INTERVAL;VALUE=DURATION:PT1440M
X-PUBLISHED-TTL:PT1440M
BEGIN:VTIMEZONE
TZID:Etc/GMT+0
BEGIN:STANDARD
DTSTART:20250129T113000Z
TZOFFSETFROM:+0000
TZOFFSETTO:+0000
END:STANDARD
END:VTIMEZONE
BEGIN:VTIMEZONE
TZID:UTC
BEGIN:STANDARD
DTSTART:20250724T223716Z
TZOFFSETFROM:+0000
TZOFFSETTO:+0000
END:STANDARD
END:VTIMEZONE
BEGIN:VEVENT
UID:266-252
DTSTAMP:20260420T223716Z
SUMMARY:Kleding passen
LOCATION:Prima Donna Kaas Arena Korenwolf 35  Huizen Noord-Holland 1273 JP
ORGANIZER;CN=Mats Bleeker:MAILTO:Matsbleeker98@gmail.com
DTSTART;TZID=Etc/GMT+0:20251026T113000
DTEND;TZID=Etc/GMT+0:20251026T140000
X-ALT-DESC;FMTTYPE=TEXT/HTML:
CATEGORIES:Iedereen
URL;VALUE=URI:https://ludovolleybal.nl/mc-events/kleding-passen/
METHOD:PUBLISH
END:VEVENT
END:VCALENDAR