BEGIN:VCALENDAR
VERSION:2.0
PRODID:spatie/icalendar-generator
DESCRIPTION:Evenementen van Ludo Volleybal
X-WR-CALDESC:Evenementen van Ludo Volleybal
REFRESH-INTERVAL;VALUE=DURATION:PT1440M
X-PUBLISHED-TTL:PT1440M
BEGIN:VTIMEZONE
TZID:Etc/GMT+0
BEGIN:STANDARD
DTSTART:20250401T000000Z
TZOFFSETFROM:+0000
TZOFFSETTO:+0000
END:STANDARD
END:VTIMEZONE
BEGIN:VTIMEZONE
TZID:UTC
BEGIN:STANDARD
DTSTART:20250724T164451Z
TZOFFSETFROM:+0000
TZOFFSETTO:+0000
END:STANDARD
END:VTIMEZONE
BEGIN:VEVENT
UID:259-247
DTSTAMP:20260420T164451Z
SUMMARY:Steengoed Cup Maaseik
LOCATION:
ORGANIZER;CN=Mats Bleeker:MAILTO:Matsbleeker98@gmail.com
DTSTART;TZID=Etc/GMT+0;VALUE=DATE:20251227
DTEND;TZID=Etc/GMT+0;VALUE=DATE:20251229
X-ALT-DESC;FMTTYPE=TEXT/HTML:
CATEGORIES:Jongens Pré Jeugd
URL;VALUE=URI:https://ludovolleybal.nl/mc-events/steengoed-cup-maaseik-2/
METHOD:PUBLISH
END:VEVENT
END:VCALENDAR