BEGIN:VCALENDAR
VERSION:2.0
PRODID:spatie/icalendar-generator
DESCRIPTION:Evenementen van Ludo Volleybal
X-WR-CALDESC:Evenementen van Ludo Volleybal
REFRESH-INTERVAL;VALUE=DURATION:PT1440M
X-PUBLISHED-TTL:PT1440M
BEGIN:VTIMEZONE
TZID:Etc/GMT+0
BEGIN:STANDARD
DTSTART:20240703T090000Z
TZOFFSETFROM:+0000
TZOFFSETTO:+0000
END:STANDARD
END:VTIMEZONE
BEGIN:VTIMEZONE
TZID:UTC
BEGIN:STANDARD
DTSTART:20250725T111954Z
TZOFFSETFROM:+0000
TZOFFSETTO:+0000
END:STANDARD
END:VTIMEZONE
BEGIN:VEVENT
UID:87-79
DTSTAMP:20260421T111954Z
SUMMARY:CMV Training
LOCATION:Prima Donna Kaas Arena Korenwolf 35  Huizen Noord-Holland 1273 JP
ORGANIZER;CN=Mats Bleeker:MAILTO:Matsbleeker98@gmail.com
RRULE:FREQ=WEEKLY;UNTIL=20250407T000000Z
DTSTART;TZID=Etc/GMT+0:20250330T090000
DTEND;TZID=Etc/GMT+0:20250330T110000
X-ALT-DESC;FMTTYPE=TEXT/HTML:
CATEGORIES:Volley Stars
URL;VALUE=URI:https://ludovolleybal.nl/mc-events/cmv-training-2/?mc_id=87
METHOD:PUBLISH
END:VEVENT
END:VCALENDAR