BEGIN:VCALENDAR
VERSION:2.0
PRODID:spatie/icalendar-generator
DESCRIPTION:Evenementen van Ludo Volleybal
X-WR-CALDESC:Evenementen van Ludo Volleybal
REFRESH-INTERVAL;VALUE=DURATION:PT1440M
X-PUBLISHED-TTL:PT1440M
BEGIN:VTIMEZONE
TZID:Etc/GMT+0
BEGIN:STANDARD
DTSTART:20240921T000000Z
TZOFFSETFROM:+0000
TZOFFSETTO:+0000
END:STANDARD
END:VTIMEZONE
BEGIN:VTIMEZONE
TZID:UTC
BEGIN:STANDARD
DTSTART:20250725T052040Z
TZOFFSETFROM:+0000
TZOFFSETTO:+0000
END:STANDARD
END:VTIMEZONE
BEGIN:VEVENT
UID:74-74
DTSTAMP:20260421T052040Z
SUMMARY:United World Games
LOCATION:
ORGANIZER;CN=Mats Bleeker:MAILTO:Matsbleeker98@gmail.com
DTSTART;TZID=Etc/GMT+0;VALUE=DATE:20250618
DTEND;TZID=Etc/GMT+0;VALUE=DATE:20250624
X-ALT-DESC;FMTTYPE=TEXT/HTML:https://unitedworldgames.com/en/
CATEGORIES:Iedereen
URL;VALUE=URI:https://ludovolleybal.nl/mc-events/united-world-games/
METHOD:PUBLISH
END:VEVENT
END:VCALENDAR