BEGIN:VCALENDAR
VERSION:2.0
PRODID:spatie/icalendar-generator
DESCRIPTION:Evenementen van Ludo Volleybal
X-WR-CALDESC:Evenementen van Ludo Volleybal
REFRESH-INTERVAL;VALUE=DURATION:PT1440M
X-PUBLISHED-TTL:PT1440M
BEGIN:VTIMEZONE
TZID:Etc/GMT+0
BEGIN:STANDARD
DTSTART:20240814T000000Z
TZOFFSETFROM:+0000
TZOFFSETTO:+0000
END:STANDARD
END:VTIMEZONE
BEGIN:VTIMEZONE
TZID:UTC
BEGIN:STANDARD
DTSTART:20250725T111830Z
TZOFFSETFROM:+0000
TZOFFSETTO:+0000
END:STANDARD
END:VTIMEZONE
BEGIN:VEVENT
UID:73-73
DTSTAMP:20260421T111830Z
SUMMARY:Volleybalscholen Eindtoernooi
LOCATION:
ORGANIZER;CN=Mats Bleeker:MAILTO:Matsbleeker98@gmail.com
DTSTART;TZID=Etc/GMT+0;VALUE=DATE:20250511
DTEND;TZID=Etc/GMT+0;VALUE=DATE:20250512
X-ALT-DESC;FMTTYPE=TEXT/HTML:
CATEGORIES:Jongens AB,  Jongens C,  Meiden AB,  Meiden C
URL;VALUE=URI:https://ludovolleybal.nl/mc-events/volleybalscholen-eindtoern
 ooi/
METHOD:PUBLISH
END:VEVENT
END:VCALENDAR