BEGIN:VCALENDAR
VERSION:2.0
PRODID:spatie/icalendar-generator
DESCRIPTION:Evenementen van Ludo Volleybal
X-WR-CALDESC:Evenementen van Ludo Volleybal
REFRESH-INTERVAL;VALUE=DURATION:PT1440M
X-PUBLISHED-TTL:PT1440M
BEGIN:VTIMEZONE
TZID:Etc/GMT+0
BEGIN:STANDARD
DTSTART:20250611T093000Z
TZOFFSETFROM:+0000
TZOFFSETTO:+0000
END:STANDARD
END:VTIMEZONE
BEGIN:VTIMEZONE
TZID:UTC
BEGIN:STANDARD
DTSTART:20250724T192433Z
TZOFFSETFROM:+0000
TZOFFSETTO:+0000
END:STANDARD
END:VTIMEZONE
BEGIN:VEVENT
UID:296-216
DTSTAMP:20260420T192433Z
SUMMARY:MC &amp;amp\; JAB op bezoek in Almere
LOCATION:Sporthal Waterwijk IJsselmeerweg 48  Almere  1316 RK
ORGANIZER;CN=Mats Bleeker:MAILTO:Matsbleeker98@gmail.com
DTSTART;TZID=Etc/GMT+0:20260308T093000
DTEND;TZID=Etc/GMT+0:20260308T130000
X-ALT-DESC;FMTTYPE=TEXT/HTML:
CATEGORIES:Meiden C,  Jongens AB,  Jongens C
URL;VALUE=URI:https://ludovolleybal.nl/mc-events/mc-jab-op-bezoek-in-almere
 /
METHOD:PUBLISH
END:VEVENT
END:VCALENDAR