BEGIN:VCALENDAR
VERSION:2.0
PRODID:spatie/icalendar-generator
DESCRIPTION:Evenementen van Ludo Volleybal
X-WR-CALDESC:Evenementen van Ludo Volleybal
REFRESH-INTERVAL;VALUE=DURATION:PT1440M
X-PUBLISHED-TTL:PT1440M
BEGIN:VTIMEZONE
TZID:Etc/GMT+0
BEGIN:STANDARD
DTSTART:20250521T090000Z
TZOFFSETFROM:+0000
TZOFFSETTO:+0000
END:STANDARD
END:VTIMEZONE
BEGIN:VTIMEZONE
TZID:UTC
BEGIN:STANDARD
DTSTART:20250724T151640Z
TZOFFSETFROM:+0000
TZOFFSETTO:+0000
END:STANDARD
END:VTIMEZONE
BEGIN:VEVENT
UID:275-254
DTSTAMP:20260420T151640Z
SUMMARY:JC Training
LOCATION:Prima Donna Kaas Arena Korenwolf 35  Huizen Noord-Holland 1273 JP
ORGANIZER;CN=Mats Bleeker:MAILTO:Matsbleeker98@gmail.com
DTSTART;TZID=Etc/GMT+0:20260215T090000
DTEND;TZID=Etc/GMT+0:20260215T120000
X-ALT-DESC;FMTTYPE=TEXT/HTML:
CATEGORIES:Jongens C
URL;VALUE=URI:https://ludovolleybal.nl/mc-events/jc-training-24/
METHOD:PUBLISH
END:VEVENT
END:VCALENDAR