BEGIN:VCALENDAR
VERSION:2.0
PRODID:spatie/icalendar-generator
DESCRIPTION:Evenementen van Ludo Volleybal
X-WR-CALDESC:Evenementen van Ludo Volleybal
REFRESH-INTERVAL;VALUE=DURATION:PT1440M
X-PUBLISHED-TTL:PT1440M
BEGIN:VTIMEZONE
TZID:Etc/GMT+0
BEGIN:STANDARD
DTSTART:20250212T090000Z
TZOFFSETFROM:+0000
TZOFFSETTO:+0000
END:STANDARD
END:VTIMEZONE
BEGIN:VTIMEZONE
TZID:UTC
BEGIN:STANDARD
DTSTART:20250724T210323Z
TZOFFSETFROM:+0000
TZOFFSETTO:+0000
END:STANDARD
END:VTIMEZONE
BEGIN:VEVENT
UID:237-225
DTSTAMP:20260420T210323Z
SUMMARY:MAB Training
LOCATION:Klaas Bouthal Laren Schapendrift 64  Laren Noord-Holland 1251 XH
ORGANIZER;CN=Mats Bleeker:MAILTO:Matsbleeker98@gmail.com
DTSTART;TZID=Etc/GMT+0:20251109T090000
DTEND;TZID=Etc/GMT+0:20251109T130000
X-ALT-DESC;FMTTYPE=TEXT/HTML:
CATEGORIES:Meiden AB
URL;VALUE=URI:https://ludovolleybal.nl/mc-events/mab-training-21/
METHOD:PUBLISH
END:VEVENT
END:VCALENDAR