BEGIN:VCALENDAR
VERSION:2.0
PRODID:spatie/icalendar-generator
DESCRIPTION:Evenementen van Ludo Volleybal
X-WR-CALDESC:Evenementen van Ludo Volleybal
REFRESH-INTERVAL;VALUE=DURATION:PT1440M
X-PUBLISHED-TTL:PT1440M
BEGIN:VTIMEZONE
TZID:Etc/GMT+0
BEGIN:STANDARD
DTSTART:20240918T150000Z
TZOFFSETFROM:+0000
TZOFFSETTO:+0000
END:STANDARD
END:VTIMEZONE
BEGIN:VTIMEZONE
TZID:UTC
BEGIN:STANDARD
DTSTART:20250725T033618Z
TZOFFSETFROM:+0000
TZOFFSETTO:+0000
END:STANDARD
END:VTIMEZONE
BEGIN:VEVENT
UID:100-88
DTSTAMP:20260421T033618Z
SUMMARY:UWG U17 Girls
LOCATION:Prima Donna Kaas Arena Korenwolf 35  Huizen Noord-Holland 1273 JP
ORGANIZER;CN=Mats Bleeker:MAILTO:Matsbleeker98@gmail.com
DTSTART;TZID=Etc/GMT+0:20250615T150000
DTEND;TZID=Etc/GMT+0:20250615T170000
X-ALT-DESC;FMTTYPE=TEXT/HTML:
CATEGORIES:Volley Stars
URL;VALUE=URI:https://ludovolleybal.nl/mc-events/uwg-u17-girls/
METHOD:PUBLISH
END:VEVENT
END:VCALENDAR